BEGIN:VCALENDAR
VERSION:2.0
PRODID:-//wp-events-plugin.com//7.2.3.1//EN
TZID:Europe/Berlin
X-WR-TIMEZONE:Europe/Berlin
BEGIN:VEVENT
UID:78@navigationsflug.de
DTSTART;TZID=Europe/Berlin;VALUE=DATE:20240712
DTEND;TZID=Europe/Berlin;VALUE=DATE:20240715
DTSTAMP:20240528T112824Z
URL:https://navigationsflug.de/events/58-internationaler-allgaeuflug-2024/
SUMMARY:58. Internationaler Allgäuflug 2024
DESCRIPTION:Die Fliegergruppe Leutkirch e.V. lädt wieder zum traditionelle
 n Allgäuflug nach Leutkirch (EDNL) ein.\n\nWie immer wird auch in diesem 
 Jahr am Freitag vor dem Allgäuflug eine theoretische Einweisung in die Ra
 llyefliegerei und ein Trainingsflug für alle Einsteiger und Junggeblieben
 e angeboten. Abends lädt die FG Leutkirch dann zur Welcome-Party mit Gril
 l und Live-Musik in die Werft ein.\n\nDie Ausschreibung und alle weiteren 
 Informationen stehen auf der Homepage unter https://www.fliegergruppe.de/a
 llgaeuflug/ demnächst als Download zur Verfügung oder können dort nachg
 elesen werden.\n\nIn der Zwischenzeit gibt es schon einmal einen kleinen V
 orgeschmack auf das Event:\n\n[embed]https://www.youtube.com/watch?v=77KHr
 tCIVpU[/embed]
ATTACH;FMTTYPE=image/jpeg:https://i0.wp.com/navigationsflug.de/wp-content/
 uploads/Allgaeuflug.jpg?fit=2000%2C1333&ssl=1
CATEGORIES:Typ: Air Navigation Race,Typ: Rallyeflug
LOCATION:Flugplatz Leutkirch\, Flugplatz 16\, Leutkirch im Allgäu\, Baden-
 Württemberg\, 88299\, Deutschland
GEO:47.8584344;10.009957900000018
X-APPLE-STRUCTURED-LOCATION;VALUE=URI;X-ADDRESS=Flugplatz 16\, Leutkirch im
  Allgäu\, Baden-Württemberg\, 88299\, Deutschland;X-APPLE-RADIUS=100;X-T
 ITLE=Flugplatz Leutkirch:geo:47.8584344,10.009957900000018
END:VEVENT
BEGIN:VTIMEZONE
TZID:Europe/Berlin
X-LIC-LOCATION:Europe/Berlin
BEGIN:DAYLIGHT
DTSTART:20240331T030000
TZOFFSETFROM:+0100
TZOFFSETTO:+0200
TZNAME:CEST
END:DAYLIGHT
END:VTIMEZONE
END:VCALENDAR