BEGIN:VCALENDAR
VERSION:2.0
PRODID:-//wp-events-plugin.com//7.2.3.1//EN
TZID:Europe/Berlin
X-WR-TIMEZONE:Europe/Berlin
BEGIN:VEVENT
UID:103@navigationsflug.de
DTSTART;TZID=Europe/Berlin;VALUE=DATE:20250529
DTEND;TZID=Europe/Berlin;VALUE=DATE:20250602
DTSTAMP:20250104T080138Z
URL:https://navigationsflug.de/events/59-allgaeuflug/
SUMMARY:59. Internationaler Allgäuflug
DESCRIPTION:Alle Details zu diesem Event sind übersichtlich auf der Websit
 e des Veranstalters aufbereitet.\n\nHier ist der Direktlink zur Ausschreib
 ung.\n\nBitte bei Buchung über diese Seite nicht PayPal sondern Überweis
 ung als Zahlungsmethode verwenden. Die entsprechende Kontoverbindung befin
 det sich in der Ausschreibung des Veranstalters.
ATTACH;FMTTYPE=image/jpeg:https://i0.wp.com/navigationsflug.de/wp-content/
 uploads/Allgaeuflug.jpg?fit=2000%2C1333&ssl=1
CATEGORIES:Typ: Air Navigation Race,Typ: Rallyeflug
LOCATION:Flugplatz Leutkirch\, Flugplatz 16\, Leutkirch im Allgäu\, Baden-
 Württemberg\, 88299\, Deutschland
GEO:47.8584344;10.009957900000018
X-APPLE-STRUCTURED-LOCATION;VALUE=URI;X-ADDRESS=Flugplatz 16\, Leutkirch im
  Allgäu\, Baden-Württemberg\, 88299\, Deutschland;X-APPLE-RADIUS=100;X-T
 ITLE=Flugplatz Leutkirch:geo:47.8584344,10.009957900000018
END:VEVENT
BEGIN:VTIMEZONE
TZID:Europe/Berlin
X-LIC-LOCATION:Europe/Berlin
BEGIN:DAYLIGHT
DTSTART:20250330T030000
TZOFFSETFROM:+0100
TZOFFSETTO:+0200
TZNAME:CEST
END:DAYLIGHT
END:VTIMEZONE
END:VCALENDAR