BEGIN:VCALENDAR
VERSION:2.0
PRODID:-//wp-events-plugin.com//7.2.3.1//EN
TZID:Europe/Berlin
X-WR-TIMEZONE:Europe/Berlin
BEGIN:VEVENT
UID:69@navigationsflug.de
DTSTART;TZID=Europe/Berlin:20220910T100000
DTEND;TZID=Europe/Berlin:20220910T180000
DTSTAMP:20220731T151655Z
URL:https://navigationsflug.de/events/anr-trainingswettbewerb/
SUMMARY:ANR Trainingswettbewerb
DESCRIPTION:Die Bundeskommission Motorflug im DAeC führt mit Unterstützun
 g des ANR Entwicklers aus der Schweiz eine Einweisung in diese neue Sporta
 rt im Motorflug durch. Haltet Eich schon mal den Termin frei und bleibt wa
 chsam auf diesem Kanal. Weitere Informationen folgen schon bald.\n\nBitte 
 buche Deine Teilnahme so schnell wie möglich. Wir haben ein Kontingent im
  iBIS Hotel Eisenach reserviert und kümmern uns um Deine Reservierung. Sc
 hreibe dazu in die Buchungskommentare von wann bis wann Du das Zimmer ben
 ötigst.
CATEGORIES:Art: Training
LOCATION:Flugplatz Eisenach\, Am Flugplatz\, Hörselberg-Hainich\, Thüring
 en \, 99820\, Deutschland
GEO:50.995508;10.473302
X-APPLE-STRUCTURED-LOCATION;VALUE=URI;X-ADDRESS=Am Flugplatz\, Hörselberg-
 Hainich\, Thüringen \, 99820\, Deutschland;X-APPLE-RADIUS=100;X-TITLE=Flu
 gplatz Eisenach:geo:50.995508,10.473302
END:VEVENT
BEGIN:VTIMEZONE
TZID:Europe/Berlin
X-LIC-LOCATION:Europe/Berlin
BEGIN:DAYLIGHT
DTSTART:20220327T030000
TZOFFSETFROM:+0100
TZOFFSETTO:+0200
TZNAME:CEST
END:DAYLIGHT
END:VTIMEZONE
END:VCALENDAR