BEGIN:VCALENDAR
VERSION:2.0
PRODID:-//wp-events-plugin.com//7.2.3.1//EN
TZID:Europe/Berlin
X-WR-TIMEZONE:Europe/Berlin
BEGIN:VEVENT
UID:63@navigationsflug.de
DTSTART;TZID=Europe/Berlin;VALUE=DATE:20220615
DTEND;TZID=Europe/Berlin;VALUE=DATE:20220620
DTSTAMP:20240401T185435Z
URL:https://navigationsflug.de/events/deutschlandflug2022/
SUMMARY:Deutschlandflug 2022
DESCRIPTION:Ergebnisse\nTouringgruppe\nHier die Sieger der Touringgruppe:\n
 1. Rainer Scholz / Otto Stackfleth (FSG Airbus Bremen)\n2. Ernst-Detlev Oh
 lig / Halgerd Gleißl / Dietrich Pfleger (FSC Suhl)\n3. Hannah Bräuer / 
 Gerald Salzinger (AeC Bad Nauheim)\nWettbewerbsgruppe\nHier die Sieger der
  Wettbewerbsgruppe:\n1. Marcus Ciesielski\, Astrid Ciesielski (LSG Breitsc
 heid)\n2. Arnold Grubek\, Dörthe Grubek (Aeroclub Rhein-Nahe Langenlonshe
 im)\n3. Wolfgang Schneckenreither\, Cornelia Marsch (Österreich)\nBilders
 ammlung\nHier geht es zur kompletten Bildersammlung\nWettbewerbsunterlagen
 \nAlle Wettbewerbsunterlagen und Auflösungen findet Ihr hier.
CATEGORIES:Art: Deutschlandflug
LOCATION:Flugplatz Osnabrück\, Zum Flugplatz 83\, Osnabrück\, 49076\, Deu
 tschland
GEO:52.287378;7.972564
X-APPLE-STRUCTURED-LOCATION;VALUE=URI;X-ADDRESS=Zum Flugplatz 83\, Osnabrü
 ck\, 49076\, Deutschland;X-APPLE-RADIUS=100;X-TITLE=Flugplatz Osnabrück:g
 eo:52.287378,7.972564
END:VEVENT
BEGIN:VTIMEZONE
TZID:Europe/Berlin
X-LIC-LOCATION:Europe/Berlin
BEGIN:DAYLIGHT
DTSTART:20220327T030000
TZOFFSETFROM:+0100
TZOFFSETTO:+0200
TZNAME:CEST
END:DAYLIGHT
END:VTIMEZONE
END:VCALENDAR