BEGIN:VCALENDAR
VERSION:2.0
PRODID:-//wp-events-plugin.com//7.2.3.1//EN
TZID:Europe/Berlin
X-WR-TIMEZONE:Europe/Berlin
BEGIN:VEVENT
UID:50@navigationsflug.de
DTSTART;TZID=Europe/Berlin:20210206T120000
DTEND;TZID=Europe/Berlin:20210206T180000
DTSTAMP:20210206T155254Z
URL:https://navigationsflug.de/events/treffen-der-wettbewerbsflieger-2/
SUMMARY:Treffen der Wettbewerbsflieger
DESCRIPTION:Auf den Wunsch aus der Veranstaltung habe ich hier die Präsent
 ation des aktuellen FlightContest inkl. Live Tracking hochgeladen.\n\nFC-3
 .2\n\n\n\nDas traditionelle Treffen der Wettbewerbsflieger haben wir in 20
 21 auf Anfang Februar verschoben.\n\nAufgrund der aktuellen Lage im Zusamm
 enhang mit der COVID-19 Pandemie werden wir das diesjährige Treffen aussc
 hließlich ONLINE auf der ZOOM Plattform durchführen. Den Link zur Teilna
 hme am Meeting werde ich rechtzeitig an alle angemeldeten Teilnehmer verse
 nden. Gern plane ich auch eine Testrunde ein. Bitte vermerkt das bei der A
 nmeldung.\n\nDen Link zur Anmeldung findet Ihr ganz unten.\nTAGESORDNUNG (
 Vorläufig)\n\n 	Rückblick 2020\n\n 	Erfahrungen mit Corona und Wettbewer
 ben\n\n\n 	Planungen 2021\n\n 	Deutsche Meisterschaft\n 	FAI World Rally F
 lying Championship Stellenbosch\n 	Regeländerungen?\n 	Weitere Termine 20
 21\n\n\n 	Sonstiges\n\n 	Entwicklung Flight Contest\n 	Live Tracking aus N
 orwegen...\n\n\n\nIhr könnt Eure Teilnahme am einfachsten über die Webse
 ite: www.navigationsflug.de/veranstaltungen/ melden. Weitere Informationen
  erhaltet Ihr nach der Anmeldung.\n\nSolltet Ihr Vorschläge für die Tage
 sordnung haben sendet diese bitte schnellstmöglich zu mir. Die Punkte der
  Tagesordnung werde ich im Veranstaltungskalender aktuell halten.\n\n[jotf
 orm id="210044138187349" title="Treffen der Wettbewerbsflieger 2021"]
CATEGORIES:Art: Tagung
LOCATION:Online Veranstaltung\, Meeting\, Zoom\, Deutschland
X-APPLE-STRUCTURED-LOCATION;VALUE=URI;X-ADDRESS=Meeting\, Zoom\, Deutschlan
 d;X-APPLE-RADIUS=100;X-TITLE=Online Veranstaltung:geo:0,0
END:VEVENT
BEGIN:VTIMEZONE
TZID:Europe/Berlin
X-LIC-LOCATION:Europe/Berlin
BEGIN:STANDARD
DTSTART:20201025T020000
TZOFFSETFROM:+0200
TZOFFSETTO:+0100
TZNAME:CET
END:STANDARD
END:VTIMEZONE
END:VCALENDAR