BEGIN:VCALENDAR
VERSION:2.0
PRODID:-//wp-events-plugin.com//7.2.3.1//EN
TZID:Europe/Berlin
X-WR-TIMEZONE:Europe/Berlin
BEGIN:VEVENT
UID:38@navigationsflug.de
DTSTART;TZID=Europe/Berlin:20200125T120000
DTEND;TZID=Europe/Berlin:20200125T180000
DTSTAMP:20191229T153635Z
URL:https://navigationsflug.de/events/treffen-der-wettbewerbsflieger-2020/
SUMMARY:Treffen der Wettbewerbsflieger 2020
DESCRIPTION:Einladung\nZum nun bereits 9. Mal treffen sich Interessierte\,
  Wettbewerbsflieger und Ausrichter von Navigationsflugmeisterschaften am 
 letzen Samstag im Januar. 2020 findet diese Tagung am 25.01. von 12:00 Uhr
  bis ca. 18:00 Uhr im Vienna House Easy Hotel in Braunschweig statt.  Am 
 Abend können wir beim gemeinsamen Abendessen weiter diskutieren.\nAnmeldu
 ng\nhttps://form.jotform.com/193494524528366\nWir haben eine Anmeldeplattf
 orm für diese Veranstaltung erstellt. Über diese Platform könnt Ihr gle
 ichzeitig Eure Zimmer im Vienna House Easy Hotel reservieren. Natürlich k
 önnt Ihr auch einfach dort anrufen. Die Hinweise dazu findet Ihr ebenfall
 s auf der Anmeldeplattform.\nHotelbuchung\nFür die Übernachtung haben wi
 r im Tagungshotel ein Kontingent auf Navigationsflug reserviert. Die erste
 n 50% gehen am 01.01. zurück in den Verkauf. Ab dem 10.01. kann dann kein
 e Garantie mehr für eine Zimmerverfügbarkeit gegeben werden. Was aber au
 ch nicht bedeutet das es dann keine mehr gibt. Ich empfehle trotzdem eine 
 Frühzeitige Buchung.\n\n[table id=1 /]\nThemenschwerpunkte\n\n 	Aktuelles
  vom DAeC\n 	Auswertung Deutschlandflug 2019\n 	Stand Deutsche Meisterscha
 ft 2020\n 	WBO 2020 mit allen Änderungsvorschlägen\n 	Wettbewerbskarten 
 aus flightcontest\n 	Nationalmannschaft zur WM im Rallyflug 2020\n 	Einlad
 ungswettbewerb ANR im September\n
CATEGORIES:Art: Tagung
LOCATION:Vienna House Easy Hotel\, Salzdahlumer Str. 137\, Braunschweig\, 3
 8126\, Deutschland
X-APPLE-STRUCTURED-LOCATION;VALUE=URI;X-ADDRESS=Salzdahlumer Str. 137\, Bra
 unschweig\, 38126\, Deutschland;X-APPLE-RADIUS=100;X-TITLE=Vienna House Ea
 sy Hotel:geo:0,0
END:VEVENT
BEGIN:VTIMEZONE
TZID:Europe/Berlin
X-LIC-LOCATION:Europe/Berlin
BEGIN:STANDARD
DTSTART:20191027T020000
TZOFFSETFROM:+0200
TZOFFSETTO:+0100
TZNAME:CET
END:STANDARD
END:VTIMEZONE
END:VCALENDAR