BEGIN:VCALENDAR
VERSION:2.0
PRODID:-//wp-events-plugin.com//7.2.3.1//EN
TZID:Europe/Berlin
X-WR-TIMEZONE:Europe/Berlin
BEGIN:VEVENT
UID:70@navigationsflug.de
DTSTART;TZID=Europe/Berlin:20230225T120000
DTEND;TZID=Europe/Berlin:20230225T180000
DTSTAMP:20230221T202634Z
URL:https://navigationsflug.de/events/treffen-der-wettbewerbsflieger-2023/
SUMMARY:Treffen der Wettbewerbsflieger
DESCRIPTION:Liebe Freunde der Wettbewerbsfliegerei\,\n\nes wird mal wieder 
 Zeit gegenüber zu sitzen und am gemeinsamen Tisch über die Wettbewerbsfl
 iegerei und Ausrichtung zu diskutieren.\n\nDas Treffen der Wettbewerbsflie
 ger findet am 25.02.2023 wie bisher von 12:00 Uhr (Anreise morgens möglic
 h) bis 18:00 Uhr statt.\n\nInzwischen konnte ich auch das Vienna House Th
 üringer Hof in Eisenach für uns reservieren. Bitte meldet Euch für die 
 Veranstaltung auf dieser Seite an und für die Hotelübernachtung über da
 s anhängende Formular. Bitte nur darüber buchen\, damit die Reservierung
  des Meetingraumes bestehen bleibt.\n\nHotelmeldung Eisenach\n\nBitte nich
 t wundern. Am selben Wochenende trifft sich die Nationalmannschaft 2022 un
 d 2023.\n\nVielen Dank und bis demailst\nRalf
ATTACH;FMTTYPE=image/jpeg:https://i0.wp.com/navigationsflug.de/wp-content/
 uploads/WPFC2013_4_0070-e1672755448391.jpg?fit=462%2C390&ssl=1
CATEGORIES:Art: Tagung
LOCATION:Vienna House Thüringer Hof Eisenach\, Karlsplatz 11\, Eisenach\, 
 Thüringen \, 99817\, Deutschland
GEO:50.975816;10.324754
X-APPLE-STRUCTURED-LOCATION;VALUE=URI;X-ADDRESS=Karlsplatz 11\, Eisenach\, 
 Thüringen \, 99817\, Deutschland;X-APPLE-RADIUS=100;X-TITLE=Vienna House 
 Thüringer Hof Eisenach:geo:50.975816,10.324754
END:VEVENT
BEGIN:VTIMEZONE
TZID:Europe/Berlin
X-LIC-LOCATION:Europe/Berlin
BEGIN:STANDARD
DTSTART:20221030T020000
TZOFFSETFROM:+0200
TZOFFSETTO:+0100
TZNAME:CET
END:STANDARD
END:VTIMEZONE
END:VCALENDAR