BEGIN:VCALENDAR
VERSION:2.0
PRODID:-//wp-events-plugin.com//7.2.3.1//EN
TZID:Europe/Berlin
X-WR-TIMEZONE:Europe/Berlin
BEGIN:VEVENT
UID:99@navigationsflug.de
DTSTART;TZID=Europe/Berlin:20241109T120000
DTEND;TZID=Europe/Berlin:20241109T180000
DTSTAMP:20241103T085241Z
URL:https://navigationsflug.de/events/treffen-der-wettbewerbsflieger-3/
SUMMARY:Treffen der Wettbewerbsflieger
DESCRIPTION:Agenda Ver. 2\n\n 	Willkommen\n 	Nutzung der Webplattform www.n
 avigationsflug.de\n 	OSM-Wettbewerbskarte - Erweiterungen und Spezifikatio
 n\n 	Terminabstimmung 2025\n 	Stand Deutschlandflug\n 	Stand Rallyeflug WM
  in Italien\n 	Loggerentwicklung\n 	Erfahrungsberichte ANR Wettbewerbe\n 	
 Anpassungen Regelwerk\n\n 	Navigationsflug\n 	Air Navigation Race (NEW)\n\
 n\n 	TdWF Termin Frühjahr (Online)\n 	TdWF Termin Herbst (Präsenz)\n\n\n
 \n\nWie zu unserem letzten Treffen besprochen\, verschieben wir unser jäh
 rliches Treffen in den November\, um Entscheidungen für die neue Saison r
 echtzeitig treffen zu können.\n\nInzwischen konnten wir auch den Ort sich
 ern. Und ich freue mich besonders\, dass der Aero-Club Gotha e.V. uns in i
 hrem Kreise aufnimmt. Wir werden wie gewohnt von 12:00 Uhr bis ca. 18:00 U
 hr im Clubraum auf dem Flugplatz Gotha Ost unser Treffen durchführen. Fü
 r die Übernachtung empfehlen wir folgende Hotels:\n\n 	Morada Hotel Gotha
 er Hof\, Weimarer Straße 18\, 99867 Gotha (https://thueringen.morada.de)\
 n 	Hotel Schützenberg\, Schützenberg 6\, 99867 Gotha (www.hotel-schuetze
 nberg.de)\n 	Hotel am Schlosspark\, Lindenauallee 20-24\, 99867 Gotha (www
 .hotel-am-schlosspark.de)\n 	B&amp\;B HOTEL Gotha-Hbf\, Bebelstraße 13 \,
  99867 Gotha\, Deutschland\n\nZur Planung möchten wir Euch bitten die Buc
 hungsfunktion auf dieser Seite zu nutzen. Für Samstag Abends werde ich ei
 ne schöne Location reservieren. Also bitte unbedingt bei der Anmeldung mi
 t angeben\, ob ihr am Abend mit dabei seit.\n\nDie Tagesordnung wird in K
 ürze ebenfalls hier erscheinen.\n\nVielen Dank und liebe Grüße\nRalf
ATTACH;FMTTYPE=image/jpeg:https://i0.wp.com/navigationsflug.de/wp-content/
 uploads/IMG_0046.jpeg?fit=1584%2C1080&ssl=1
CATEGORIES:Art: Tagung
LOCATION:Flugplatz Gotha\, Kindleber Straße 99b\, Gotha\, Thüringen\, 998
 67\, Deutschland
GEO:50.967629;10.728616
X-APPLE-STRUCTURED-LOCATION;VALUE=URI;X-ADDRESS=Kindleber Straße 99b\, Got
 ha\, Thüringen\, 99867\, Deutschland;X-APPLE-RADIUS=100;X-TITLE=Flugplatz
  Gotha:geo:50.967629,10.728616
END:VEVENT
BEGIN:VTIMEZONE
TZID:Europe/Berlin
X-LIC-LOCATION:Europe/Berlin
BEGIN:STANDARD
DTSTART:20241027T020000
TZOFFSETFROM:+0200
TZOFFSETTO:+0100
TZNAME:CET
END:STANDARD
END:VTIMEZONE
END:VCALENDAR