BEGIN:VCALENDAR
VERSION:2.0
PRODID:-//wp-events-plugin.com//7.2.3.1//EN
TZID:Europe/Berlin
X-WR-TIMEZONE:Europe/Berlin
BEGIN:VEVENT
UID:91@navigationsflug.de
DTSTART;TZID=Europe/Berlin:20240321T200000
DTEND;TZID=Europe/Berlin:20240321T213000
DTSTAMP:20240303T100041Z
URL:https://navigationsflug.de/events/web-seminar-navigationsflugwettbewer
 be/
SUMMARY:Web-Seminar Navigationsflugwettbewerbe
DESCRIPTION:Wie läuft eigentlich im Navigationsflug eine Rallye ab? Diese 
 und andere Fragen klären die Navgeeks und andere erfahrene Piloten am 21.
  März\, von 20 bis 21:30 Uhr in einem Web-Seminar. Die Ausrichtung des Ab
 ends fokussiert besonders auf die Novizen des Rallye-Fluges\, sie stellt e
 ine ideale Vorbereitung auf Navigationsflugwettbewerbe dar. Aber auch erfa
 hrene Piloten sind willkommen.\n\nGerade wer noch nicht so recht weiß\, w
 elche Herausforderungen sich hinter diesen Wettbewerben verbergen\, dem od
 er der wird hier geholfen. Die Teilnahme ist selbstverständlich unverbind
 lich\, nicht an die Meldung zu einem Wettbewerb gebunden und völlig koste
 nlos.\n\nVorerfahrung ist für die Teilnahme nicht erforderlich\, die samm
 elt man dann später bei den Flügen. Wettbewerbe wie beispielsweise Hesse
 nsternflug oder Deutsche Motorflugmeisterschaft Navigationsflug bieten die
  Anforderungsstufen Anfänger\, Fortgeschrittene und Profis.\n\nHier geht'
 s zur Online-Anmeldung für das Web-Seminar.
ATTACH;FMTTYPE=image/jpeg:https://i0.wp.com/navigationsflug.de/wp-content/
 uploads/Vortrag-Navigationsflug.jpg?fit=1066%2C600&ssl=1
CATEGORIES:Art: Tagung,Typ: Air Navigation Race,Typ: Rallyeflug
END:VEVENT
BEGIN:VTIMEZONE
TZID:Europe/Berlin
X-LIC-LOCATION:Europe/Berlin
BEGIN:STANDARD
DTSTART:20231029T020000
TZOFFSETFROM:+0200
TZOFFSETTO:+0100
TZNAME:CET
END:STANDARD
END:VTIMEZONE
END:VCALENDAR